BEGIN:VCALENDAR
VERSION:2.0
PRODID:-//ChamberMaster//Event Calendar 2.0//EN
METHOD:PUBLISH
X-PUBLISHED-TTL:P3D
REFRESH-INTERVAL:P3D
CALSCALE:GREGORIAN
BEGIN:VEVENT
DTSTART:20141019T040000Z
DTEND:20141019T230000Z
X-MICROSOFT-CDO-ALLDAYEVENT:FALSE
SUMMARY:FREE Electronic Waste Recycling Event
DESCRIPTION:FREE Electronic Waste Recycling Event at Montebello City Hall 1600 W. Beverly Blvd\, Montebello\, CA 90640 (Parking Lot)\n\n\n\nFor more information please contact the Montebello Chamber of Commerce (323) 721-1153
X-ALT-DESC;FMTTYPE=text/html:FREE Electronic Waste Recycling Event at Montebello City Hall 1600 W. Beverly Blvd\, Montebello\, CA 90640 (Parking Lot)<br />\n<br />\nFor more information please contact the Montebello Chamber of Commerce (323) 721-1153
LOCATION:
UID:e.1156.1121
SEQUENCE:3
DTSTAMP:20260419T130525Z
URL:https://www.montebellochamber.org/events/details/free-electronic-waste-recycling-event-10-18-2014-1121
END:VEVENT

END:VCALENDAR
