BEGIN:VCALENDAR
VERSION:2.0
PRODID:-//ChamberMaster//Event Calendar 2.0//EN
METHOD:PUBLISH
X-PUBLISHED-TTL:P3D
REFRESH-INTERVAL:P3D
CALSCALE:GREGORIAN
BEGIN:VEVENT
DTSTART:20121018T160000Z
DTEND:20121018T220000Z
X-MICROSOFT-CDO-ALLDAYEVENT:FALSE
SUMMARY:Free Export Seminar
DESCRIPTION:This seminar will provide information to business owners interested in exporting opportunities and business growth. Come dialog with a panel of experts on how to take your business global.
X-ALT-DESC;FMTTYPE=text/html:This seminar will provide information to business owners interested in exporting opportunities and business growth. Come dialog with a panel of experts on how to take your business global.
LOCATION:Sheraton Fairplex Conference Center 601 W. McKinley Ave.\, Pomona\, CA 91768
UID:e.1156.658
SEQUENCE:3
DTSTAMP:20260419T231052Z
URL:https://www.montebellochamber.org/events/details/free-export-seminar-10-18-2012-658
END:VEVENT

END:VCALENDAR
