BEGIN:VCALENDAR
VERSION:2.0
PRODID:-//ChamberMaster//Event Calendar 2.0//EN
METHOD:PUBLISH
X-PUBLISHED-TTL:P3D
REFRESH-INTERVAL:P3D
CALSCALE:GREGORIAN
BEGIN:VEVENT
DTSTART:20130913T013000Z
DTEND:20130913T030000Z
X-MICROSOFT-CDO-ALLDAYEVENT:FALSE
SUMMARY:FREE Fashion Eyes Make-Up Class
DESCRIPTION:Eyes make the costume.\n\nMeet our Eye style specialist Meeghan.\n\nLearn the art of Eyelashes\, glitter eyes & cancealers from a Pro\n\nFREE Class bring your friends .\n\nGet here by 6:30  win a FREE pair of Eyelashes
X-ALT-DESC;FMTTYPE=text/html:Eyes make the costume.<br />\nMeet our Eye style specialist Meeghan.<br />\nLearn the art of Eyelashes\, glitter eyes &amp\; cancealers from a Pro<br />\nFREE Class bring your friends .<br />\nGet here by 6:30&nbsp\; win a FREE pair of Eyelashes
LOCATION:Heavenly Choice 534 N. Montebello Blvd. Montebello\, CA 90640
UID:e.1156.952
SEQUENCE:3
DTSTAMP:20260419T173617Z
URL:https://www.montebellochamber.org/events/details/free-fashion-eyes-make-up-class-09-12-2013-952
END:VEVENT

END:VCALENDAR
