BEGIN:VCALENDAR
VERSION:2.0
PRODID:-//ChamberMaster//Event Calendar 2.0//EN
METHOD:PUBLISH
X-PUBLISHED-TTL:P3D
REFRESH-INTERVAL:P3D
CALSCALE:GREGORIAN
BEGIN:VEVENT
DTSTART:20181214T200000Z
DTEND:20181215T000000Z
X-MICROSOFT-CDO-ALLDAYEVENT:FALSE
SUMMARY:FREE Flu Shots - Beverly Hospital
DESCRIPTION:FREE FLU SHOTS \n\nBeat the flu this holiday season.  Get your free flu shot at Beverly Hospital.\n\nThis is a one day outdoor flu clinic. Look for the tent in the parking lot at \n\nBeverly Blvd./Poplar Ave.  Limited flu shots available - first come\, first served.
X-ALT-DESC;FMTTYPE=text/html:<strong><span style="color:#FF8C00\;">FREE FLU SHOTS</span></strong>&nbsp\;<br />\nBeat the flu this holiday season.&nbsp\; Get your <strong><span style="color:#FF8C00\;">free flu shot&nbsp\;</span></strong><span style="color:#000000\;">at Beverly Hospital.<br />\nThis is a one day outdoor flu clinic. Look for the tent in the parking lot at&nbsp\;<br />\nBeverly Blvd./Poplar Ave.&nbsp\; Limited flu shots available -&nbsp\;<em>first come\, first served.&nbsp\;</em></span><br />\n&nbsp\;
LOCATION:Beverly Hospital Parking Lot (Beverly Blvd./Poplar Ave.) 309 W. Beverly Blvd. Montebello\, CA 90640
UID:e.1156.3124
SEQUENCE:3
DTSTAMP:20260419T172911Z
URL:https://www.montebellochamber.org/events/details/free-flu-shots-beverly-hospital-3124
END:VEVENT

END:VCALENDAR
