BEGIN:VCALENDAR
VERSION:2.0
PRODID:-//ChamberMaster//Event Calendar 2.0//EN
METHOD:PUBLISH
X-PUBLISHED-TTL:P3D
REFRESH-INTERVAL:P3D
CALSCALE:GREGORIAN
BEGIN:VEVENT
DTSTART:20141022T020000Z
DTEND:20141022T020000Z
X-MICROSOFT-CDO-ALLDAYEVENT:FALSE
SUMMARY:FREE Halloween Make Up Classes
DESCRIPTION:Join us every Tuesday and Thursday Nights at 7:00pm for informal Dia De Los Muertos & Halloween make-up demonstrations. Our professional make up artisst will spend 45 minutes painting a technique\, while discussing the different types of paint and brushes used to create the effect. Bring your own printed picture for that nights discussion topic. Enjoy the magic of Movie & TV special effects using blood\, zombie effects\, aging\, scars\, zipper face plus traditional Cleopatra eyes\, Elvira\, Frankenstein\, Vampire Bites\, Bald skull caps and much more\n\nAll ages welcome from 13 and up.
X-ALT-DESC;FMTTYPE=text/html:Join us every Tuesday and Thursday Nights at 7:00pm for informal Dia De Los Muertos &amp\; Halloween make-up demonstrations. Our professional make up artisst will spend 45 minutes painting a technique\, while discussing the different types of paint and brushes used to create the effect. Bring your own printed picture for that nights discussion topic. Enjoy the magic of Movie &amp\; TV special effects using blood\, zombie effects\, aging\, scars\, zipper face plus traditional Cleopatra eyes\, Elvira\, Frankenstein\, Vampire Bites\, Bald skull caps and much more<br>\nAll ages welcome from 13 and up.
LOCATION:Heavenly Choice Costumes & Events 534 N. Montebello Blvd. Montebello\, CA 90640
UID:e.1156.1105
SEQUENCE:3
DTSTAMP:20260419T130224Z
URL:https://www.montebellochamber.org/events/details/free-halloween-make-up-classes-10-21-2014-1105
END:VEVENT

END:VCALENDAR
