BEGIN:VCALENDAR
VERSION:2.0
PRODID:-//ChamberMaster//Event Calendar 2.0//EN
METHOD:PUBLISH
X-PUBLISHED-TTL:P3D
REFRESH-INTERVAL:P3D
CALSCALE:GREGORIAN
BEGIN:VEVENT
DTSTART:20170620T190000Z
DTEND:20170620T210000Z
X-MICROSOFT-CDO-ALLDAYEVENT:FALSE
SUMMARY:Free Housing Rights Workshop
DESCRIPTION:Do you have questions about:\n	Fair Housing\n	Evictions\n	Security Deposits\n	Repairs\n	Rent Increases\n\nCome learn about your legal rights and responsibilities as a tenant!  Presented by The City of Montebello and the Housing Rights Center.
X-ALT-DESC;FMTTYPE=text/html:<ul>\n	<li>Do you have questions about:</li>\n	<li>Fair Housing</li>\n	<li>Evictions</li>\n	<li>Security Deposits</li>\n	<li>Repairs</li>\n	<li>Rent Increases</li>\n</ul>\nCome learn about your legal rights and responsibilities as a tenant! &nbsp\;Presented by The City of Montebello and the Housing Rights Center.
LOCATION:Montebello Public Library Community Room 1550 West Beverly Blvd. Montebello\, CA 90640
UID:e.1156.1693
SEQUENCE:3
DTSTAMP:20260419T143039Z
URL:https://www.montebellochamber.org/events/details/free-housing-rights-workshop-1693
END:VEVENT

END:VCALENDAR
