BEGIN:VCALENDAR
VERSION:2.0
PRODID:-//ChamberMaster//Event Calendar 2.0//EN
METHOD:PUBLISH
X-PUBLISHED-TTL:P3D
REFRESH-INTERVAL:P3D
CALSCALE:GREGORIAN
BEGIN:VEVENT
DTSTART:20180609T180000Z
DTEND:20180609T200000Z
X-MICROSOFT-CDO-ALLDAYEVENT:FALSE
SUMMARY:Free Lei Making Class
DESCRIPTION:Money Leis are now a part of graduation traditions. Create a custom Grad lei for your special graduate.  Heavenly Choice will be teaching Lei making classes June 4 - June 12\, we will demonstrate 6 different lei styles.\n\n Join us Fridays from 4:00 - 6:00 and Saturdays at 11:00 to 1:00  for high school Grad favorites money\, ribbon\, cellophane\, and netting.\n\nEach session will also include specialty theme ideas for children's designs such as Unicorns\, Dodgers\, Spiderman\,  Sports\n\nLei packages DIY will be available in local school colors from 9.99 and up.
X-ALT-DESC;FMTTYPE=text/html:<span style="font-size:14px\;"><span style="color:black\;"><span style="font-family:calibri\,sans-serif\;">Money Leis are now a part of graduation traditions. Create&nbsp\;a custom Grad lei for your special graduate.&nbsp\; Heavenly Choice will be&nbsp\;teaching Lei making classes June 4 - June 12\, we will&nbsp\;demonstrate&nbsp\;6 different lei styles.</span></span><br />\n<span style="color:black\;"><span style="font-family:calibri\,sans-serif\;">&nbsp\;Join us Fridays from 4:00&nbsp\;- 6:00 and Saturdays at 11:00 to 1:00&nbsp\; for high school Grad favorites money\, ribbon\, cellophane\, and netting.<br id="yui_3_16_0_1_1527048885283_35184" />\nEach&nbsp\;session will&nbsp\;also include specialty theme ideas for children&#39\;s designs such as Unicorns\, Dodgers\, Spiderman\,&nbsp\; Sports</span></span><br />\n<span style="color:black\;"><span style="font-family:calibri\,sans-serif\;">Lei packages DIY will be available in local school colors from 9.99 and up.</span></span></span><br />\n&nbsp\;
LOCATION:Heavenly Choice 534 N. Montebello Blvd.
UID:e.1156.2603
SEQUENCE:3
DTSTAMP:20260419T185140Z
URL:https://www.montebellochamber.org/events/details/free-lei-making-class-06-09-2018-2603
END:VEVENT

END:VCALENDAR
