BEGIN:VCALENDAR
VERSION:2.0
PRODID:-//ChamberMaster//Event Calendar 2.0//EN
METHOD:PUBLISH
X-PUBLISHED-TTL:P3D
REFRESH-INTERVAL:P3D
CALSCALE:GREGORIAN
BEGIN:VEVENT
DTSTART:20130808T020000Z
DTEND:20130808T030000Z
X-MICROSOFT-CDO-ALLDAYEVENT:FALSE
SUMMARY:FREE Make-Up Class
DESCRIPTION:Make-Up sparks the fun in all of us.\n\n\n\nLearn trade secrets of fantasy face painting\, dia de los Muertos\,\n\nBirthday Party children's characters plus Tattou & concealing treatments.\n\n\n\nOfficial Ben Nye & Paradise Make-Up Stores\n\nBanana Powder always in STOCK\n\n\n\nWhy drive to Hollywood learn the secret tips of  movie industry special fx artists right here in Montebello\n\n\n\nGet ready for the Zombie 5k Mud Run Saturday\, August 17\, 2013 at Santa Anita Race Track
X-ALT-DESC;FMTTYPE=text/html:Make-Up sparks the fun in all of us.<br />\n<br />\n<strong><span style="font-size: 12px\;">Learn trade secrets of fantasy face painting\, dia de los Muertos\,<br />\nBirthday Party children&#39\;s characters plus Tattou &amp\; concealing treatments.</span></strong><br />\n<br />\n<span style="font-size: 14px\;"><strong>Official Ben Nye &amp\; Paradise Make-Up Stores</strong></span><br />\n<span style="color: rgb(0\, 0\, 205)\;"><span style="font-size: 12px\;"><span style="background-color: rgb(255\, 255\, 0)\;">Banana Powder always in STOCK</span></span></span><br />\n<br />\nWhy drive to Hollywood learn the secret tips of&nbsp\; movie industry special fx artists right here in Montebello<br />\n<br />\nGet ready for the Zombie 5k Mud Run Saturday\, August 17\, 2013 at Santa Anita Race Track
LOCATION:Heavenly Choice 534 N. Montebello Blvd. Montebello\, CA 90640
UID:e.1156.933
SEQUENCE:3
DTSTAMP:20260419T160031Z
URL:https://www.montebellochamber.org/events/details/free-make-up-class-08-07-2013-933
END:VEVENT

END:VCALENDAR
