BEGIN:VCALENDAR
VERSION:2.0
PRODID:-//ChamberMaster//Event Calendar 2.0//EN
METHOD:PUBLISH
X-PUBLISHED-TTL:P3D
REFRESH-INTERVAL:P3D
CALSCALE:GREGORIAN
BEGIN:VEVENT
DTSTART;VALUE=DATE:20180628
DTEND;VALUE=DATE:20180629
TRANSP:TRANSPARENT
X-MICROSOFT-CDO-ALLDAYEVENT:TRUE
SUMMARY:Free Make-Up Nights
DESCRIPTION:Beauty for All Ages\n\nFree Make-Up Nights\n\nGina Melendez: Make-Up Artist\n\n\n\nCheck out these dates:\n\nAPRIL:\n\nThurs. 5\, Eyebrows & Shaping\n\nThurs. 12\, Eyeshadow Looks\n\nThurs. 19\, Correct & Conceal\n\nFri. 20\, FREE Eyelashes & Hands on Liner\n\nThurs. 26\, Contour & Highlight\n\nFri. 27\, Hands on Contour & Highlights\n\n\n\nMAY:\n\nThurs. 3\, Prom Natural Glow Looks\n\nFri. 4\, Prom Dramatic Eyes Hands on\n\nThurs. 10\, Glitter & Glow for Raves/EDC\n\nThurs. 17\, Aging Gracefully for Mature Skin\n\nFri. 18\, Hands on Everyday Looks\n\n\n\nJUNE: \n\nFri. 1\, Hands on Dramatic Looks\n\nThurs. 7\, Intro to Summer Looks\n\nThurs. 14\, Hands on Lips & More\n\nThurs. 28\, Transform from Day to Night\n\nFri. 29\, Hands on Bronze Goddess
X-ALT-DESC;FMTTYPE=text/html:<div style="text-align: center\;">Beauty for All Ages<br />\nFree Make-Up Nights<br />\nGina Melendez: Make-Up Artist<br />\n<br />\nCheck out these dates:</div>\n\n<div><strong>APRIL:</strong><br />\nThurs. 5\, Eyebrows &amp\; Shaping<br />\nThurs. 12\, Eyeshadow Looks<br />\nThurs. 19\, Correct &amp\; Conceal<br />\nFri. 20\, FREE Eyelashes &amp\; Hands on Liner<br />\nThurs. 26\, Contour &amp\; Highlight<br />\nFri. 27\, Hands on Contour &amp\; Highlights<br />\n<br />\n<strong>MAY:</strong><br />\nThurs. 3\, Prom Natural Glow Looks<br />\nFri. 4\, Prom Dramatic Eyes Hands on<br />\nThurs. 10\, Glitter &amp\; Glow for Raves/EDC<br />\nThurs. 17\, Aging Gracefully for Mature Skin<br />\nFri. 18\, Hands on Everyday Looks<br />\n<br />\n<strong>JUNE:&nbsp\;</strong><br />\nFri. 1\, Hands on Dramatic Looks<br />\nThurs. 7\, Intro to Summer Looks<br />\nThurs. 14\, Hands on Lips &amp\; More<br />\nThurs. 28\, Transform from Day to Night<br />\nFri. 29\, Hands on Bronze Goddess</div>\n
LOCATION:Heavenly Choice 534 N. Montebello Blvd. Montebello\, CA 90640
UID:e.1156.2543
SEQUENCE:3
DTSTAMP:20260419T173352Z
URL:https://www.montebellochamber.org/events/details/free-make-up-nights-06-28-2018-2543
END:VEVENT

END:VCALENDAR
