BEGIN:VCALENDAR
VERSION:2.0
PRODID:-//ChamberMaster//Event Calendar 2.0//EN
METHOD:PUBLISH
X-PUBLISHED-TTL:P3D
REFRESH-INTERVAL:P3D
CALSCALE:GREGORIAN
BEGIN:VEVENT
DTSTART:20180728T020000Z
DTEND:20180728T053000Z
X-MICROSOFT-CDO-ALLDAYEVENT:FALSE
SUMMARY:Free Movie in the Park
DESCRIPTION:FREE Movie In the Park on Friday\, July 27th. Come watch the movie "The Peanuts Movie" with us on our 240" screen.  The movie begins at 8:00 p.m. \, gates open at 7:00 p.m.
X-ALT-DESC;FMTTYPE=text/html:<span style="color: rgb(0\, 0\, 0)\; font-family: -apple-system\, BlinkMacSystemFont\, &quot\;Segoe UI&quot\;\, Roboto\, Helvetica\, Arial\, sans-serif\; font-size: 14px\;">FREE Movie In the Park on Friday\, July 27th. Come watch the movie &quot\;The Peanuts Movie&quot\; with us on our 240&quot\; screen.&nbsp\; The movie begins at 8:00 p.m. \, gates open at 7:00 p.m.</span>
LOCATION:Montebello City Park
UID:e.1156.2628
SEQUENCE:3
DTSTAMP:20260419T185433Z
URL:https://www.montebellochamber.org/events/details/free-movie-in-the-park-2628
END:VEVENT

END:VCALENDAR
