BEGIN:VCALENDAR
VERSION:2.0
PRODID:-//ChamberMaster//Event Calendar 2.0//EN
METHOD:PUBLISH
X-PUBLISHED-TTL:P3D
REFRESH-INTERVAL:P3D
CALSCALE:GREGORIAN
BEGIN:VEVENT
DTSTART:20191123T193000Z
DTEND:20191123T220000Z
X-MICROSOFT-CDO-ALLDAYEVENT:FALSE
SUMMARY:Free Thanksgiving Community Outreach Event
DESCRIPTION:HOC invites you for a day of Thanksgiving!!! We will be having our Thanksgiving Event Saturday November 23\, 2019. Join us and please invite someone less fortunate to come receive a blessing of: a thanksgiving meal\, a shopping cart full of food\, clothing\, and hygiene products\, face painting for kids\, music\, plus more. We will also be hosting booths for: Blood Pressure\, Dental Information\, Healthy Living\, and other Resource Programs. We also need volunteers to make someone's Thanksgiving extra special.
X-ALT-DESC;FMTTYPE=text/html:HOC invites you for a day of Thanksgiving!!! We will be having our Thanksgiving Event Saturday November 23\, 2019. Join us and please invite someone less fortunate to come receive a blessing of: a thanksgiving meal\, a shopping cart full of food\, clothing\, and hygiene products\, face painting for kids\, music\, plus more. We will also be hosting booths for: Blood Pressure\, Dental Information\, Healthy Living\, and other Resource Programs. We also need volunteers to make someone&rsquo\;s Thanksgiving extra special.
LOCATION:Hearts of Compassion 600 South Maple Avenue Montebello\, CA 90640
UID:e.1156.3480
SEQUENCE:3
DTSTAMP:20260419T160318Z
URL:https://www.montebellochamber.org/events/details/free-thanksgiving-community-outreach-event-3480
END:VEVENT

END:VCALENDAR
