BEGIN:VCALENDAR
VERSION:2.0
PRODID:-//ChamberMaster//Event Calendar 2.0//EN
METHOD:PUBLISH
X-PUBLISHED-TTL:P3D
REFRESH-INTERVAL:P3D
CALSCALE:GREGORIAN
BEGIN:VEVENT
DTSTART:20180818T170000Z
DTEND:20180818T190000Z
X-MICROSOFT-CDO-ALLDAYEVENT:FALSE
SUMMARY:Free Workshop: Leverage Social Media for Business
DESCRIPTION:RG Pacific LLC presents\n\n"How to Leverage Social Media for Your Business"\n\n\n\nDo you want to grow your business on the internet? Social Media is now the number one channel where customers are influenced\, spend leisure time with\, and where the most customer profile data is available today.\n\n77.6 percent of Small Businesses (2017\, up from 73.2 percent in 2016) say they use social media in their marketing strategy\, only 32 percent of Small Businesses seriously invest in social media marketing. Considering 81 percent of the entire U.S. population has at least one social media profile\, maybe that's an opportunity you should jump on before it becomes mainstream among small businesses in your industry.\n\nLearn how social media can lead to more business opportunities for you\, how to segment your audience\, create an effective message\, and create a strategy that gets sales and leads.\n\nThis FREE workshop has limited spaces\, so make sure to RSVP today!
X-ALT-DESC;FMTTYPE=text/html:<div class="js-xd-read-more-toggle-view read-more__toggle-view">\n<div class="js-xd-read-more-contents l-mar-top-3" data-automation="listing-event-description">\n<p>RG Pacific LLC presents<br />\n&quot\;How to Leverage Social Media for Your Business&quot\;<br />\n<br />\nDo you want to grow your business on the internet? Social Media is now the number one channel where customers are influenced\, spend leisure time with\, and where the most customer profile data is available today.</p>\n\n<p><strong>77.6 percent of Small Businesses (2017\, up from 73.2 percent in 2016) say they use social media in their marketing strategy\,</strong> <strong>only 32 percent of Small Businesses seriously invest in social media marketing.</strong> Considering <strong>81 percent of the entire U.S. population has at least one social media profile\, </strong>maybe that&rsquo\;s an opportunity you should jump on before it becomes mainstream among small businesses in your industry.</p>\n\n<p>Learn how social media can lead to more business opportunities for you\, how to segment your audience\, create an effective message\, and create a strategy that gets sales and leads.</p>\n\n<p>This FREE workshop has limited spaces\, so make sure to RSVP today!</p>\n</div>\n</div>\n
LOCATION:1493 N Montebello Blvd\, Suite M2 Montebello\, CA 90640
UID:e.1156.2636
SEQUENCE:3
DTSTAMP:20260419T202252Z
URL:https://www.montebellochamber.org/events/details/free-workshop-leverage-social-media-for-business-2636
END:VEVENT

END:VCALENDAR
