BEGIN:VCALENDAR
VERSION:2.0
PRODID:-//ChamberMaster//Event Calendar 2.0//EN
METHOD:PUBLISH
X-PUBLISHED-TTL:P3D
REFRESH-INTERVAL:P3D
CALSCALE:GREGORIAN
BEGIN:VEVENT
DTSTART:20130814T020000Z
DTEND:20130814T030000Z
X-MICROSOFT-CDO-ALLDAYEVENT:FALSE
SUMMARY:FREE Zombie Make-Up Class
DESCRIPTION:Get ready for the ZOMBIE 5k Mud Run at santa Anita Race Track\n\nSaturday\, August 17\, 2013\n\n\n\ntoday we will work on fake skin\, with deep wrinkles\, wounds\, ole age make-up\n\nand how to Zombify your clothes\n\n\n\nClasses are FREE with a $20.00 make-Up purchase or $15.00 per class.\n\nBring your clothes and we will brainstorm your character
X-ALT-DESC;FMTTYPE=text/html:<span style="font-size: 14px\;"><strong><span style="color: rgb(178\, 34\, 34)\;">Get ready for the ZOMBIE 5k Mud Run at santa Anita Race Track<br />\nSaturday\, August 17\, 2013</span></strong></span><br />\n<br />\n<strong>today we will work on fake skin\, with deep wrinkles\, wounds\, ole age make-up<br />\nand how to Zombify your clothes</strong><br />\n<br />\n<strong><span style="background-color: rgb(0\, 255\, 0)\;">Classes are FREE with a $20.00 make-Up purchase or $15.00 per class.</span><br />\n<span style="background-color: rgb(0\, 255\, 0)\;">Bring your clothes and we will brainstorm your character</span></strong>
LOCATION:Heavenly Choice 534 N. Montebello Blvd. Montebello\, CA 90640
UID:e.1156.934
SEQUENCE:3
DTSTAMP:20260419T160048Z
URL:https://www.montebellochamber.org/events/details/free-zombie-make-up-class-08-13-2013-934
END:VEVENT

END:VCALENDAR
