BEGIN:VCALENDAR
VERSION:2.0
PRODID:-//ChamberMaster//Event Calendar 2.0//EN
METHOD:PUBLISH
X-PUBLISHED-TTL:P3D
REFRESH-INTERVAL:P3D
CALSCALE:GREGORIAN
BEGIN:VEVENT
DTSTART:20150527T160000Z
DTEND:20150527T190000Z
X-MICROSOFT-CDO-ALLDAYEVENT:FALSE
SUMMARY:Free Zumbathon and Mini Resource Fair-Thursday May 27\,2015
DESCRIPTION:Name: Zumbathon and Health Fair for National Senior Health and Fitness Day Date: May 27\, 2015 Time: 9:00 AM - 11:00 AM PDT Event Description: Golden Outlook Insurance Services will join local community leaders AppleCare Medical Group\, Brookdale ? Central Whittier\, and Whittier Hospital Medical Center\, to celebrate the 22nd Annual National Senior Health & Fitness Day (NSHFD) on May 27th\, 2015. As an official host site\, Whittier Hospital Medical Center will hold a Zumbathon and Mini Resource Fair which will be open to the general public. An estimated 100\,000 seniors across the country will come together to help promote active\, healthy lifestyles through physical fitness\, good nutrition\, and preventive care. This event is a wonderful opportunity for seniors to make\, renew\, and revitalize their commitment to live healthier lives through better health and fitness. National Senior Health & Fitness Day is held on the last Wednesday in May in support of Older Americans Month and National Physical Fitness and Sports Month. The program\, the largest of its kind\, is organized by the Mature Market Resource Center\, a national clearinghouse for professionals who work with older adults. For more information about National Senior Health & Fitness Day\, visit www.fitnessday.com. Free
X-ALT-DESC;FMTTYPE=text/html:Name: Zumbathon and Health Fair for National Senior Health and Fitness Day Date: May 27\, 2015 Time: 9:00 AM - 11:00 AM PDT Event Description: Golden Outlook Insurance Services will join local community leaders AppleCare Medical Group\, Brookdale ? Central Whittier\, and Whittier Hospital Medical Center\, to celebrate the 22nd Annual National Senior Health &amp\; Fitness Day (NSHFD) on May 27th\, 2015. As an official host site\, Whittier Hospital Medical Center will hold a Zumbathon and Mini Resource Fair which will be open to the general public. An estimated 100\,000 seniors across the country will come together to help promote active\, healthy lifestyles through physical fitness\, good nutrition\, and preventive care. This event is a wonderful opportunity for seniors to make\, renew\, and revitalize their commitment to live healthier lives through better health and fitness. National Senior Health &amp\; Fitness Day is held on the last Wednesday in May in support of Older Americans Month and National Physical Fitness and Sports Month. The program\, the largest of its kind\, is organized by the Mature Market Resource Center\, a national clearinghouse for professionals who work with older adults. For more information about National Senior Health &amp\; Fitness Day\, visit www.fitnessday.com. Free
LOCATION:Whittier Hospital Medical Center 9210 Colima Rd. Suite 110 Whittier\, CA 90605
UID:e.1156.1392
SEQUENCE:3
DTSTAMP:20260419T202732Z
URL:https://www.montebellochamber.org/events/details/free-zumbathon-and-mini-resource-fair-thursday-may-27-2015-05-27-2015-1392
END:VEVENT

END:VCALENDAR
