BEGIN:VCALENDAR
VERSION:2.0
PRODID:-//ChamberMaster//Event Calendar 2.0//EN
METHOD:PUBLISH
X-PUBLISHED-TTL:P3D
REFRESH-INTERVAL:P3D
CALSCALE:GREGORIAN
BEGIN:VEVENT
DTSTART:20181112T000000Z
DTEND:20181112T040000Z
X-MICROSOFT-CDO-ALLDAYEVENT:FALSE
SUMMARY:Friendsgiving - Angry Horse Brewing
DESCRIPTION:Join us for Friendsgiving - Sign up to bring a dish\n\nHosted by Angry Horse Brewing\n\nIt's that time of year to gather with family and friends. Join us for a potluck dinner with our Angry Horse community on Sunday\, Nov 11th\, starting at 4pm.\n\n\n\nPlease sign up to bring a dish to pass:\n\nhttps://docs.google.com/spreadsheets/d/138PDBma7KpntLL6g9MuiKwt4IdO8U64uHqpWRF6RB3U/edit#gid=0\n\n\n\nWe will provide plates\, napkins and silverware. \n\nThis is a family and dog friendly event.
X-ALT-DESC;FMTTYPE=text/html:Join us for Friendsgiving - Sign up to bring a dish<br />\nHosted by Angry Horse Brewing<br />\n<span style="color: rgb(29\, 33\, 41)\; font-family: Helvetica\, Arial\, sans-serif\; font-size: 14px\; background-color: rgb(255\, 255\, 255)\;">It&#39\;s that time of year to gather with family and friends. Join us for a potluck dinner with our Angry Horse community on Sunday\, Nov 11th\, starting at 4pm.</span><br style="color: rgb(29\, 33\, 41)\; font-family: Helvetica\, Arial\, sans-serif\; font-size: 14px\; background-color: rgb(255\, 255\, 255)\;" />\n<br style="color: rgb(29\, 33\, 41)\; font-family: Helvetica\, Arial\, sans-serif\; font-size: 14px\; background-color: rgb(255\, 255\, 255)\;" />\n<span style="color: rgb(29\, 33\, 41)\; font-family: Helvetica\, Arial\, sans-serif\; font-size: 14px\; background-color: rgb(255\, 255\, 255)\;">Please sign up to bring a dish to pass:</span><br style="color: rgb(29\, 33\, 41)\; font-family: Helvetica\, Arial\, sans-serif\; font-size: 14px\; background-color: rgb(255\, 255\, 255)\;" />\n<a data-lynx-mode="hover" data-lynx-uri="https://l.facebook.com/l.php?u=https%3A%2F%2Fdocs.google.com%2Fspreadsheets%2Fd%2F138PDBma7KpntLL6g9MuiKwt4IdO8U64uHqpWRF6RB3U%2Fedit%3Ffbclid%3DIwAR26Ntn-Lpy7mUT8N4qIRtyNDod2JDcErwsNzl5iWzPeLD-nPsZbla70pE4%23gid%3D0&amp\;h=AT3OYBN5w6FYc1zNHjDlg6tkP9ogZ0uA31cexik2wXbXwgbSuiLrkFcn_h7Ks_5tj0RgD8pxe5coUrVX_ZSlD9qLNCDy9BMkz-24BNW9bElthVZRtoXRZTMtLaX3VbiJ" href="https://docs.google.com/spreadsheets/d/138PDBma7KpntLL6g9MuiKwt4IdO8U64uHqpWRF6RB3U/edit?fbclid=IwAR26Ntn-Lpy7mUT8N4qIRtyNDod2JDcErwsNzl5iWzPeLD-nPsZbla70pE4#gid=0" rel="nofollow noopener" style="color: rgb(54\, 88\, 153)\; cursor: pointer\; text-decoration-line: none\; font-family: Helvetica\, Arial\, sans-serif\; font-size: 14px\; background-color: rgb(255\, 255\, 255)\;" target="_blank">https://docs.google.com/spreadsheets/d/138PDBma7KpntLL6g9MuiKwt4IdO8U64uHqpWRF6RB3U/edit#gid=0</a><br style="color: rgb(29\, 33\, 41)\; font-family: Helvetica\, Arial\, sans-serif\; font-size: 14px\; background-color: rgb(255\, 255\, 255)\;" />\n<br style="color: rgb(29\, 33\, 41)\; font-family: Helvetica\, Arial\, sans-serif\; font-size: 14px\; background-color: rgb(255\, 255\, 255)\;" />\n<span style="color: rgb(29\, 33\, 41)\; font-family: Helvetica\, Arial\, sans-serif\; font-size: 14px\; background-color: rgb(255\, 255\, 255)\;">We will provide plates\, napkins and silverware.&nbsp\;</span><br style="color: rgb(29\, 33\, 41)\; font-family: Helvetica\, Arial\, sans-serif\; font-size: 14px\; background-color: rgb(255\, 255\, 255)\;" />\n<span style="color: rgb(29\, 33\, 41)\; font-family: Helvetica\, Arial\, sans-serif\; font-size: 14px\; background-color: rgb(255\, 255\, 255)\;">This is a family and dog friendly event.</span>
LOCATION:Angry Horse Brewing 603 W. Whittier Blvd. Montebello\, CA 90640
UID:e.1156.3107
SEQUENCE:3
DTSTAMP:20260419T173557Z
URL:https://www.montebellochamber.org/events/details/friendsgiving-angry-horse-brewing-3107
END:VEVENT

END:VCALENDAR
