BEGIN:VCALENDAR
VERSION:2.0
PRODID:-//ChamberMaster//Event Calendar 2.0//EN
METHOD:PUBLISH
X-PUBLISHED-TTL:P3D
REFRESH-INTERVAL:P3D
CALSCALE:GREGORIAN
BEGIN:VEVENT
DTSTART:20170723T020000Z
DTEND:20170723T060000Z
X-MICROSOFT-CDO-ALLDAYEVENT:FALSE
SUMMARY:FUMC of Montebello presents: A Night to Remember
DESCRIPTION:A night of fun for a cause\, let's rebuild and rejoice!  Let's rebuild our church together with our big hearts and laughter!  Semi-formal attire.
X-ALT-DESC;FMTTYPE=text/html:A night of fun for a cause\, let&#39\;s rebuild and rejoice! &nbsp\;Let&#39\;s rebuild our church together with our big hearts and laughter! &nbsp\;Semi-formal attire. &nbsp\;
LOCATION:Address: 1220 West Whittier Boulevard\, Montebello\, CA 90640
UID:e.1156.1740
SEQUENCE:3
DTSTAMP:20260419T143511Z
URL:https://www.montebellochamber.org/events/details/fumc-of-montebello-presents-a-night-to-remember-1740
END:VEVENT

END:VCALENDAR
