BEGIN:VCALENDAR
VERSION:2.0
PRODID:-//ChamberMaster//Event Calendar 2.0//EN
METHOD:PUBLISH
X-PUBLISHED-TTL:P3D
REFRESH-INTERVAL:P3D
CALSCALE:GREGORIAN
BEGIN:VEVENT
DTSTART:20191110T040000Z
DTEND:20191110T075500Z
X-MICROSOFT-CDO-ALLDAYEVENT:FALSE
SUMMARY:Fundraiser Dance for American Legion's Children's Christmas Party
DESCRIPTION:Help the American Legion fill holiday stockings\, relax\, dance and have fun at the Montebello American Legion's annual dance to raise funds for their children's Christmas party!\n\n\n\nEntertainment by Always Party Time (live band) and DJ Randy NRG!\n\n50/50 Drawing\, Door Prizes and Raffles!
X-ALT-DESC;FMTTYPE=text/html:Help the American Legion fill holiday stockings\, relax\, dance and have fun at the Montebello American Legion&#39\;s annual dance to raise funds for their children&#39\;s Christmas party!<br />\n<br />\nEntertainment by Always Party Time (live band) and DJ Randy NRG!<br />\n50/50 Drawing\, Door Prizes and Raffles!
LOCATION:Montebello American Legion 616 W. Cleveland Avenue Montebello\, CA 90640
UID:e.1156.3478
SEQUENCE:3
DTSTAMP:20260419T173955Z
URL:https://www.montebellochamber.org/events/details/fundraiser-dance-for-american-legion-s-children-s-christmas-party-3478
END:VEVENT

END:VCALENDAR
