BEGIN:VCALENDAR
VERSION:2.0
PRODID:-//ChamberMaster//Event Calendar 2.0//EN
METHOD:PUBLISH
X-PUBLISHED-TTL:P3D
REFRESH-INTERVAL:P3D
CALSCALE:GREGORIAN
BEGIN:VEVENT
DTSTART:20130706T010000Z
DTEND:20130706T060000Z
X-MICROSOFT-CDO-ALLDAYEVENT:FALSE
SUMMARY:Fundraiser for Disabled U.S Marine Veteran
DESCRIPTION:Laugh Eat Support. Fundraiser for U.S Marine Veteran Rubern Navarro Jr. Victim of Real Estate Fraud.
X-ALT-DESC;FMTTYPE=text/html:Laugh Eat Support. Fundraiser for U.S Marine Veteran Rubern Navarro Jr. Victim of Real Estate Fraud. 
LOCATION:5332 Stevens Place\, Commerce\, CA 90040
UID:e.1156.928
SEQUENCE:3
DTSTAMP:20260419T143414Z
URL:https://www.montebellochamber.org/events/details/fundraiser-for-disabled-u-s-marine-veteran-07-05-2013-928
END:VEVENT

END:VCALENDAR
