BEGIN:VCALENDAR
VERSION:2.0
PRODID:-//ChamberMaster//Event Calendar 2.0//EN
METHOD:PUBLISH
X-PUBLISHED-TTL:P3D
REFRESH-INTERVAL:P3D
CALSCALE:GREGORIAN
BEGIN:VEVENT
DTSTART:20190927T180000Z
DTEND:20190927T210000Z
X-MICROSOFT-CDO-ALLDAYEVENT:FALSE
SUMMARY:Funeraria Del Angel Public Servants Appreciation Day BBQ
DESCRIPTION:1st Annual Appreciation BBQ\, Public Servants Appreciation Day BBQ!\n\nPlease come out to Funeraria Del Angel...hosting a BBQ in honor of all the great work our public service heroes do in our community! \n\nFood\, refreshments\, raffles & a tour of their location\, and more!
X-ALT-DESC;FMTTYPE=text/html:1st Annual Appreciation BBQ\, Public Servants Appreciation Day BBQ!<br />\nPlease come out to Funeraria Del Angel...hosting a BBQ in honor of all the great work our public service heroes do in our community!&nbsp\;<br />\nFood\, refreshments\, raffles &amp\; a tour of their location\, and more!&nbsp\;
LOCATION:Funeraria Del Angel 913 West Whittier Blvd. Montebello\, CA 90640
UID:e.1156.3407
SEQUENCE:3
DTSTAMP:20260419T190233Z
URL:https://www.montebellochamber.org/events/details/funeraria-del-angel-public-servants-appreciation-day-bbq-3407
END:VEVENT

END:VCALENDAR
