BEGIN:VCALENDAR
VERSION:2.0
PRODID:-//ChamberMaster//Event Calendar 2.0//EN
METHOD:PUBLISH
X-PUBLISHED-TTL:P3D
REFRESH-INTERVAL:P3D
CALSCALE:GREGORIAN
BEGIN:VEVENT
DTSTART:20190316T013000Z
DTEND:20190316T030000Z
X-MICROSOFT-CDO-ALLDAYEVENT:FALSE
SUMMARY:Girls Night OUt-The Shops at Montebello
DESCRIPTION:CHEERS in real life!  Join us for Girls Night Out!  Featuring a panel with fashion friends\, beauty stations\, giveaways and more!
X-ALT-DESC;FMTTYPE=text/html:CHEERS in real life!&nbsp\; Join us for Girls Night Out!&nbsp\; Featuring a panel with fashion friends\, beauty stations\, giveaways and more!&nbsp\;
LOCATION:The Shops at Montebello (Center Court) 2134 Montebello Town Center Montebello\, CA 90640
UID:e.1156.3259
SEQUENCE:3
DTSTAMP:20260419T160458Z
URL:https://www.montebellochamber.org/events/details/girls-night-out-the-shops-at-montebello-3259
END:VEVENT

END:VCALENDAR
