BEGIN:VCALENDAR
VERSION:2.0
PRODID:-//ChamberMaster//Event Calendar 2.0//EN
METHOD:PUBLISH
X-PUBLISHED-TTL:P3D
REFRESH-INTERVAL:P3D
CALSCALE:GREGORIAN
BEGIN:VEVENT
DTSTART:20200208T023000Z
DTEND:20200208T043000Z
X-MICROSOFT-CDO-ALLDAYEVENT:FALSE
SUMMARY:Go Red for Women-Soroptimist\, The Shops at Montebello & Macy's
DESCRIPTION:GO RED! Come together at The Shops at Montebello along with Montebello Soroptimist and Macy's in honor of heart\, health month\, benefiting the American Heart Association! Rock your Red!
X-ALT-DESC;FMTTYPE=text/html:GO RED! Come together at The Shops at Montebello along with Montebello Soroptimist and Macy&#39\;s in honor of heart\, health month\, benefiting the American Heart Association! Rock your Red!
LOCATION:The Shops at Montebello Center Court 2134 Montebello Town Center Montebello\, CA 90640
UID:e.1156.3573
SEQUENCE:3
DTSTAMP:20260419T114836Z
URL:https://www.montebellochamber.org/events/details/go-red-for-women-soroptimist-the-shops-at-montebello-macy-s-3573
END:VEVENT

END:VCALENDAR
