BEGIN:VCALENDAR
VERSION:2.0
PRODID:-//ChamberMaster//Event Calendar 2.0//EN
METHOD:PUBLISH
X-PUBLISHED-TTL:P3D
REFRESH-INTERVAL:P3D
CALSCALE:GREGORIAN
BEGIN:VEVENT
DTSTART:20141208T180000Z
DTEND:20141224T220000Z
X-MICROSOFT-CDO-ALLDAYEVENT:FALSE
SUMMARY:Goldex 2014 Holiday Sale
DESCRIPTION:GOLDEX FINE JEWELRY\n\n2014 HOLIDAY SALE EVENT\n\n\nNot only have we slashed the prices on all our entire inventory with select items being offered AT OUR COST\, but we also have your back with these complimentary services to make holiday shopping easy:\n\n\n	Free Personal Shopper Service!  Come in with your holiday shopping list or fax/email it ahead and we'll pull together gift ideas for your review!\n	Free Gift Wrapping!  Once you've made your gift choices\, we'll give you some gift enclosures to fill out while we beautifully wrap each and every gift!\n	Free Wish Lists!  If you see something you'd like to find in your stocking this year\, let us know and we'll start a personal wish list to help Santa pick out your gift!\n	No-Fee Gift Certificates!  Can't decide on a gift?  Gift certificates let your loved ones experience the joy of shopping and choosing their own gift!\n	Private Appointments!  When you need flexibility to fit shopping into your hectic schedule\, call us to set an appointment outside our business hours and we'll do our best to accomodate you!\n\nSpare yourself the hassle this year running from store to store.  The Goldex shopping experience includes comfortable upholstered seats\, refreshments and personable service to help you get your shopping done with ease.
X-ALT-DESC;FMTTYPE=text/html:<div style="text-align: center\;"><u><strong>GOLDEX FINE JEWELRY<br>\n2014 HOLIDAY SALE EVENT</strong></u></div>\n<br>\nNot only have we <strong>slashed the prices on all our entire inventory</strong> with select items being offered <strong><u>AT OUR COST</u></strong>\, but we also have your back with these complimentary services to make holiday shopping easy:\n\n<ul>\n	<li><strong>Free Personal Shopper Service!&nbsp\;</strong> Come in with your holiday shopping list or fax/email it ahead and we'll pull together gift ideas for your review!</li>\n	<li><strong>Free Gift Wrapping</strong>!&nbsp\; Once you've made your gift choices\, we'll give you some gift enclosures to fill out while we beautifully wrap each and every gift!</li>\n	<li><strong>Free Wish Lists!&nbsp\;</strong> If you see something you'd like to find in your stocking this year\, let us know and we'll start a personal wish list to help Santa pick out your gift!</li>\n	<li><strong>No-Fee Gift Certificates!&nbsp\; </strong>Can't decide on a gift?&nbsp\; Gift certificates let your loved ones experience the joy of shopping and choosing their own gift!</li>\n	<li><strong>Private Appointments!</strong>&nbsp\; When you need flexibility to fit shopping into your hectic schedule\, call us to set an appointment outside our business hours and we'll do our best to accomodate you!</li>\n</ul>\nSpare yourself the hassle this year running from store to store.&nbsp\; The Goldex shopping experience includes comfortable upholstered seats\, refreshments and personable service to help you get your shopping done with ease.
LOCATION:Goldex Fine Jewelry 2445 W. Whittier Blvd.\, Suite 201 Montebello\, CA 90640 (between Wilcox & Garfield Aves.)
UID:e.1156.1336
SEQUENCE:3
DTSTAMP:20260419T130607Z
URL:https://www.montebellochamber.org/events/details/goldex-2014-holiday-sale-12-08-2014-1336
END:VEVENT

END:VCALENDAR
