BEGIN:VCALENDAR
VERSION:2.0
PRODID:-//ChamberMaster//Event Calendar 2.0//EN
METHOD:PUBLISH
X-PUBLISHED-TTL:P3D
REFRESH-INTERVAL:P3D
CALSCALE:GREGORIAN
BEGIN:VEVENT
DTSTART:20140912T190000Z
DTEND:20140912T210000Z
X-MICROSOFT-CDO-ALLDAYEVENT:FALSE
SUMMARY:Goldex 35th Anniversary Reception
DESCRIPTION:IT'S OUR ANNIVERSARY! Join us as we celebrate 35 years in business along with city officials and dignitaries.  Refreshments will be served.
X-ALT-DESC;FMTTYPE=text/html:<strong>IT&#39\;S OUR ANNIVERSARY! </strong>Join us as we celebrate 35 years in business along with city officials and dignitaries.&nbsp\; Refreshments will be served.
LOCATION:Goldex Fine Jewelry 2445 W. Whittier Blvd.\, #201 Montebello\, CA 90640
UID:e.1156.1084
SEQUENCE:3
DTSTAMP:20260419T130432Z
URL:https://www.montebellochamber.org/events/details/goldex-35th-anniversary-reception-09-12-2014-1084
END:VEVENT

END:VCALENDAR
