BEGIN:VCALENDAR
VERSION:2.0
PRODID:-//ChamberMaster//Event Calendar 2.0//EN
METHOD:PUBLISH
X-PUBLISHED-TTL:P3D
REFRESH-INTERVAL:P3D
CALSCALE:GREGORIAN
BEGIN:VEVENT
DTSTART:20151120T013000Z
DTEND:20151120T033000Z
X-MICROSOFT-CDO-ALLDAYEVENT:FALSE
SUMMARY:Goldex Fine Jewelry Mixer
DESCRIPTION:Join the Montebello Chamber of Commerce & Goldex Fine Jewelry\n\nfor the Stars of Hollywood Mixer!\n\n\n\nCelebrate the glitz and glamour of the Golden Age of Cinema while mingling with old friends and making new acquaintances!\n\n\n\nSpecial Guest Appearance!  Fabulous Food\, Fun & Prizes!
X-ALT-DESC;FMTTYPE=text/html:<strong>Join the Montebello Chamber of Commerce &amp\; Goldex Fine Jewelry<br />\nfor the Stars of Hollywood Mixer!</strong><br />\n<br />\n<strong>Celebrate the glitz and glamour of the Golden Age of Cinema while mingling with old friends and making new acquaintances!</strong><br />\n<br />\n<strong>Special Guest Appearance!&nbsp\; Fabulous Food\, Fun &amp\; Prizes!</strong>
LOCATION:Goldex Fine Jewelry 2445 W. Whittier Blvd. - Suite 201 Montebello\, CA 90640 (323) 726-7181
UID:e.1156.1430
SEQUENCE:3
DTSTAMP:20260419T153517Z
URL:https://www.montebellochamber.org/events/details/goldex-fine-jewelry-mixer-11-19-2015-1430
END:VEVENT

END:VCALENDAR
