BEGIN:VCALENDAR
VERSION:2.0
PRODID:-//ChamberMaster//Event Calendar 2.0//EN
METHOD:PUBLISH
X-PUBLISHED-TTL:P3D
REFRESH-INTERVAL:P3D
CALSCALE:GREGORIAN
BEGIN:VEVENT
DTSTART:20141118T180000Z
DTEND:20141122T230000Z
X-MICROSOFT-CDO-ALLDAYEVENT:FALSE
SUMMARY:Goldex's Pre-Holiday Blowout Sale
DESCRIPTION:GOLDEX FINE JEWELRY'S\n\nPRE-HOLIDAY BLOWOUT SALE\n\nNOV. 18- NOV. 22\, 2014\n\n\n\n~ FORGET "BLACK FRIDAY"--SHOP EARLY & SAVE! ~\n\n\nWe're holding our pre-holiday sales event one week before Thanksgiving so you can spend Black Friday with family.  In addition to fabulous markdowns on inventory (including new merchandise previewing just in time for the holiday season)\, this unique sales event features extra-special Doorbuster Deals and tempting gifts with purchase like FREE iPads and Playstation 4 consoles!\n\n\n\nFREE GIFTS WITH PURCHASE:\n\n\n	Free iPad Air or Playstation 4 Console with purchase of $2999* or more\n	Free iPad Mini with purchase of $1999* or more\n	Free $100 American Express Gift Card with purchase of $999* or more\n\nDOORBUSTER DEALS:\n\n\n	Trendy CZ Bar Necklaces in Sterling Silver\, Reg. $88 - ONLY $49!\n	14K White Gold 1/2 Carat Diamond Hoop Earrings\, Reg. $2500 - ONLY $799!\n	14K White Gold 1 Carat Diamond Tennis Bracelet\, Reg. $2995 - ONLY $999!\n	...AND MUCH MORE!\n\n*Gifts with purchase may be delivered at a later date with voucher or substituted if on-hand supplies run out. Minimum purchase amount excludes tax\, or payments made towards repairs\, layaways or special orders. Limit one free gift with purchase per customer.\n\n\n\nDoorbuster Deals available in limited quantities while supplies last.  Sorry\, no rain checks.
X-ALT-DESC;FMTTYPE=text/html:<div style="text-align: center\;"><span style="color:#ff0099\;"><strong><span style="font-family:verdana\;"><span style="font-size: 14px\;">GOLDEX FINE JEWELRY&#39\;S<br />\nPRE-HOLIDAY BLOWOUT SALE</span></span><br />\nNOV. 18- NOV. 22\, 2014<br />\n<br />\n<em>~ FORGET &quot\;BLACK FRIDAY&quot\;--SHOP EARLY &amp\; SAVE! ~</em></strong></span></div>\n<br />\nWe&#39\;re holding our pre-holiday sales event one week before Thanksgiving so you can spend Black Friday with family.&nbsp\; In addition to fabulous markdowns on inventory (including new merchandise previewing just in time for the holiday season)\, this unique sales event features extra-special Doorbuster Deals and tempting<strong> </strong>gifts with purchase like<strong> FREE iPads and Playstation 4 consoles!</strong><br />\n<br />\n<strong><span style="color:#ff0099\;"><u>FREE GIFTS WITH PURCHASE:</u></span></strong>\n\n<ul>\n	<li><strong>Free iPad Air or Playstation 4 Console</strong> with purchase of $2999* or more</li>\n	<li><strong>Free iPad Mini </strong>with purchase of $1999* or more</li>\n	<li><strong>Free $100 American Express Gift Card </strong>with purchase of $999* or more</li>\n</ul>\n<span style="color:#ff0099\;"><strong><u>DOORBUSTER DEALS:</u></strong></span>\n\n<ul>\n	<li><strong>Trendy CZ Bar Necklaces in Sterling Silver\, Reg. $88 - <span style="color:#ff0099\;">ONLY $49!</span></strong></li>\n	<li><strong>14K White Gold 1/2 Carat Diamond Hoop Earrings\, Reg. $2500 - <span style="color:#ff0099\;">ONLY $799!</span></strong></li>\n	<li><strong>14K White Gold 1 Carat Diamond Tennis Bracelet\, Reg. $2995 - <span style="color:#ff0099\;">ONLY $999!</span></strong></li>\n	<li><strong><em>...AND MUCH MORE!</em></strong></li>\n</ul>\n*Gifts with purchase may be delivered at a later date with voucher or substituted if on-hand supplies run out. Minimum purchase amount excludes tax\, or payments made towards repairs\, layaways or special orders. Limit one free gift with purchase per customer.<br />\n<br />\nDoorbuster Deals available in limited quantities while supplies last.&nbsp\; Sorry\, no rain checks.
LOCATION:GOLDEX FINE JEWELRY 2445 W. WHITTIER BLVD.\, #201 MONTEBELLO\, CA 90640 Between Garfield and Wilcox Avenues
UID:e.1156.1122
SEQUENCE:3
DTSTAMP:20260419T114752Z
URL:https://www.montebellochamber.org/events/details/goldex-s-pre-holiday-blowout-sale-11-18-2014-1122
END:VEVENT

END:VCALENDAR
