BEGIN:VCALENDAR
VERSION:2.0
PRODID:-//ChamberMaster//Event Calendar 2.0//EN
METHOD:PUBLISH
X-PUBLISHED-TTL:P3D
REFRESH-INTERVAL:P3D
CALSCALE:GREGORIAN
BEGIN:VEVENT
DTSTART:20130809T140000Z
DTEND:20130809T220000Z
X-MICROSOFT-CDO-ALLDAYEVENT:FALSE
SUMMARY:Golf Tournament
DESCRIPTION:Fund raiser: GOLF TOURNAMENT hosted by Our Lady of the Miraculous Medal Parish. Includes Dinner\, on-course meal & Goodie bag.  Live auction\, raffle and prizes.
X-ALT-DESC;FMTTYPE=text/html:Fund raiser: GOLF TOURNAMENT hosted by Our Lady of the Miraculous Medal Parish. Includes Dinner\, on-course meal &amp\; Goodie bag. &nbsp\;Live auction\, raffle and prizes.
LOCATION:Montebello Country Club 901 Via San Clemente Montebello\,CA. 90640
UID:e.1156.920
SEQUENCE:3
DTSTAMP:20260419T160028Z
URL:https://www.montebellochamber.org/events/details/golf-tournament-08-09-2013-920
END:VEVENT

END:VCALENDAR
