BEGIN:VCALENDAR
VERSION:2.0
PRODID:-//ChamberMaster//Event Calendar 2.0//EN
METHOD:PUBLISH
X-PUBLISHED-TTL:P3D
REFRESH-INTERVAL:P3D
CALSCALE:GREGORIAN
BEGIN:VEVENT
DTSTART:20220518T170000Z
DTEND:20220518T170000Z
X-MICROSOFT-CDO-ALLDAYEVENT:FALSE
SUMMARY:Grand Opening Operation Stay Safe
DESCRIPTION:The San Gabriel Valley Regional Housing Trust (SGVRHT)\, San Gabriel Valley Council of Governments (SGVCOG)\, and the City of Montebello invite the Montebello Chamber of Commerce to attend the ribbon-cutting ceremony for Operation Stay Safe\, a village of 30 tiny homes in the city of Montebello\, which will be the most significant housing transition shelter of its kind in the San Gabriel Valley for community members experiencing homelessness.
X-ALT-DESC;FMTTYPE=text/html:<span style="font-family:georgia\,serif\;"><span style="font-size:12.0pt\;">The San Gabriel Valley Regional Housing Trust (SGVRHT)\, San Gabriel Valley Council of Governments (SGVCOG)\, and the City of Montebello invite the Montebello Chamber of Commerce to attend the ribbon-cutting ceremony for Operation Stay Safe\, a village of 30 tiny homes in the city of Montebello\, which will be the most significant housing transition shelter of its kind in the San Gabriel Valley for community members experiencing homelessness. &nbsp\;</span></span><br />\n&nbsp\;
LOCATION:2000 Flotilla Street Montebello\, CA 90022
UID:e.1156.4062
SEQUENCE:3
DTSTAMP:20260419T173259Z
URL:https://www.montebellochamber.org/events/details/grand-opening-operation-stay-safe-4062
END:VEVENT

END:VCALENDAR
