BEGIN:VCALENDAR
VERSION:2.0
PRODID:-//ChamberMaster//Event Calendar 2.0//EN
METHOD:PUBLISH
X-PUBLISHED-TTL:P3D
REFRESH-INTERVAL:P3D
CALSCALE:GREGORIAN
BEGIN:VEVENT
DTSTART:20260228T180000Z
DTEND:20260228T180000Z
X-MICROSOFT-CDO-ALLDAYEVENT:FALSE
SUMMARY:Grand Opening & Ribbon Cutting for: HOBBY LOBBY
DESCRIPTION:Please join us and welcome a new business to our community!  Members\, show your support for a fellow business owner\, network with other members and build and maintain those connections.
X-ALT-DESC;FMTTYPE=text/html:Please join us and welcome a new business to our community!&nbsp\; Members\, show your support for a fellow business owner\, network with other members and build and maintain those connections.&nbsp\;
LOCATION:Hobby Lobby 1445 N. Montebello Blvd. Montebello\, CA 90640
UID:e.1156.5001
SEQUENCE:3
DTSTAMP:20260422T085659Z
URL:https://www.montebellochamber.org/events/details/grand-opening-ribbon-cutting-for-hobby-lobby-5001
END:VEVENT

END:VCALENDAR
