BEGIN:VCALENDAR
VERSION:2.0
PRODID:-//ChamberMaster//Event Calendar 2.0//EN
METHOD:PUBLISH
X-PUBLISHED-TTL:P3D
REFRESH-INTERVAL:P3D
CALSCALE:GREGORIAN
BEGIN:VEVENT
DTSTART:20181025T233000Z
DTEND:20181026T023000Z
X-MICROSOFT-CDO-ALLDAYEVENT:FALSE
SUMMARY:Grand Re-Opening Risher Reception Center & Halloween Mixer
DESCRIPTION:Please join us for the Grand Re-Opening of the Risher Reception Center and later a Halloween Mixer!
X-ALT-DESC;FMTTYPE=text/html:Please join us for the Grand Re-Opening of the Risher Reception Center and later a Halloween Mixer!&nbsp\;&nbsp\;&nbsp\;&nbsp\;&nbsp\;&nbsp\;&nbsp\;&nbsp\;&nbsp\;&nbsp\;&nbsp\;&nbsp\;
LOCATION:Risher Mortuary & Cremation Services (Reception Center) 1316 W. Whittier Blvd. Montebello\, CA 90640
UID:e.1156.2862
SEQUENCE:3
DTSTAMP:20260419T160318Z
URL:https://www.montebellochamber.org/events/details/grand-re-opening-risher-reception-center-halloween-mixer-2862
END:VEVENT

END:VCALENDAR
