BEGIN:VCALENDAR
VERSION:2.0
PRODID:-//ChamberMaster//Event Calendar 2.0//EN
METHOD:PUBLISH
X-PUBLISHED-TTL:P3D
REFRESH-INTERVAL:P3D
CALSCALE:GREGORIAN
BEGIN:VEVENT
DTSTART:20180911T020000Z
DTEND:20180911T030000Z
X-MICROSOFT-CDO-ALLDAYEVENT:FALSE
SUMMARY:Gun Safety Class
DESCRIPTION:Learn about handgun safety\, carry laws\, and the various types of firearms from the firearm expert and owner of FF Firearms.
X-ALT-DESC;FMTTYPE=text/html:Learn about handgun safety\, carry laws\, and the various types of firearms from the firearm expert and owner of FF Firearms.
LOCATION:FF Firearms 121 E. Whittier Blvd.\, Unit I Montebello\, CA 90640
UID:e.1156.2857
SEQUENCE:3
DTSTAMP:20260419T202022Z
URL:https://www.montebellochamber.org/events/details/gun-safety-class-2857
END:VEVENT

END:VCALENDAR
