BEGIN:VCALENDAR
VERSION:2.0
PRODID:-//ChamberMaster//Event Calendar 2.0//EN
METHOD:PUBLISH
X-PUBLISHED-TTL:P3D
REFRESH-INTERVAL:P3D
CALSCALE:GREGORIAN
BEGIN:VEVENT
DTSTART;VALUE=DATE:20190211
DTEND;VALUE=DATE:20190214
TRANSP:TRANSPARENT
X-MICROSOFT-CDO-ALLDAYEVENT:TRUE
SUMMARY:Guys Valentine's Nights of Fun
DESCRIPTION:Attention Guys\n\nNeed that perfect Valentine's Gift !!!\n\nSensual Lingerie... Romantic Candles... Flowers and rose Petals...\n\nMassage Oils... Stimulants and Pills to Keep her happy... CBD Lotions...\n\nSexologist here every night to create the perfect Valentine experience !!!\n\nBeer & Wine  plus munchies while you shop\n\nComplimentry Gift Wrap
X-ALT-DESC;FMTTYPE=text/html:<div style="text-align: center\;"><span style="font-family:arial\,helvetica\,sans-serif"><span style="font-size:18px"><strong>Attention Guys</strong></span></span></div>\n\n<div style="text-align: center\;"><span style="font-size:14px">Need that perfect Valentine&#39\;s Gift !!!<br />\nSensual Lingerie... Romantic Candles... Flowers and rose Petals...<br />\nMassage Oils... Stimulants and Pills to Keep her happy... CBD Lotions...<br />\nSexologist here every night to create the perfect Valentine experience !!!<br />\nBeer &amp\; Wine&nbsp\; plus munchies while you shop<br />\nComplimentry Gift Wrap</span></div>\n
LOCATION:Heavenly Choice 534 N. Montebello Blvd. Montebello\, CA 90640 1 block North of Beverly
UID:e.1156.3178
SEQUENCE:3
DTSTAMP:20260419T143619Z
URL:https://www.montebellochamber.org/events/details/guys-valentine-s-nights-of-fun-3178
END:VEVENT

END:VCALENDAR
