BEGIN:VCALENDAR
VERSION:2.0
PRODID:-//ChamberMaster//Event Calendar 2.0//EN
METHOD:PUBLISH
X-PUBLISHED-TTL:P3D
REFRESH-INTERVAL:P3D
CALSCALE:GREGORIAN
BEGIN:VEVENT
DTSTART:20130816T190000Z
DTEND:20130817T010000Z
X-MICROSOFT-CDO-ALLDAYEVENT:FALSE
SUMMARY:H&R Block Career Fair
DESCRIPTION:H & R Block Career Fair - Office Managers and Tax Professionals\n\nIf possible please bring your resume or send via email to freddy.briones@hrblock.com\n\nBilingual candidates encouraged to apply.\n\n\n\nBenefits include:\n\n	\n		Flexible hours\n	\n		Opportunities for ongoing training\n	\n		Earn extra income\n	\n		Opportunity for advancement
X-ALT-DESC;FMTTYPE=text/html:H &amp\; R Block Career Fair - Office Managers and Tax Professionals<br />\nIf possible please bring your resume or send via email to freddy.briones@hrblock.com<br />\nBilingual candidates encouraged to apply.<br />\n<br />\nBenefits include:\n<ul>\n	<li>\n		Flexible hours</li>\n	<li>\n		Opportunities for ongoing training</li>\n	<li>\n		Earn extra income</li>\n	<li>\n		Opportunity for advancement</li>\n</ul>\n
LOCATION:H & R Block 878 W. Beverly Blvd. Montebello CA 90640
UID:e.1156.943
SEQUENCE:3
DTSTAMP:20260419T172947Z
URL:https://www.montebellochamber.org/events/details/h-r-block-career-fair-08-16-2013-943
END:VEVENT

END:VCALENDAR
