BEGIN:VCALENDAR
VERSION:2.0
PRODID:-//ChamberMaster//Event Calendar 2.0//EN
METHOD:PUBLISH
X-PUBLISHED-TTL:P3D
REFRESH-INTERVAL:P3D
CALSCALE:GREGORIAN
BEGIN:VEVENT
DTSTART:20180930T010000Z
DTEND:20180930T050000Z
X-MICROSOFT-CDO-ALLDAYEVENT:FALSE
SUMMARY:Hall of Fame Dinner
DESCRIPTION:HOF CLASS OF 2018 Indution List:\n\nEd Rodriguez '51-Baseball\n\nNeil Edwards '58-Basketball\n\nTom Minor '68-Golf\n\nJoe Staub '77-Track & Field\n\n2005 CIF Champion Girl's Softball Team\n\nLouie Ramirez '61-Football\n\nCharlie Anaya '62-Football\n\nDave Lopez '73-Football\n\nWillie Galbraith '96-Football\n\n \n\nSpecial Recognition:\n\nDr. Richard Zak-Team Physician\n\nJim Santiago '74-Team(s) and Equipment Manager
X-ALT-DESC;FMTTYPE=text/html:<div style="text-align:center">\n<p style="text-align:center"><strong><em><u><span style="font-family:georgia\,serif\; font-size:12pt">HOF CLASS OF 2018 Indution List:</span></u></em></strong></p>\n\n<div style="text-align:center"><span style="font-size:14pt">Ed Rodriguez &#39\;51-Baseball</span></div>\n\n<div style="text-align:center"><span style="font-size:14pt">Neil Edwards &#39\;58-Basketball</span></div>\n\n<div style="text-align:center"><span style="font-size:14pt">Tom Minor &#39\;68-Golf</span></div>\n\n<div style="text-align:center"><span style="font-size:14pt">Joe Staub &#39\;77-Track &amp\; Field</span></div>\n\n<div style="text-align:center"><span style="font-size:14pt">2005 CIF Champion Girl&#39\;s Softball Team</span></div>\n\n<div style="text-align:center"><span style="font-size:14pt">Louie Ramirez &#39\;61-Football</span></div>\n\n<div style="text-align:center"><span style="font-size:14pt">Charlie Anaya &#39\;62-Football</span></div>\n\n<div style="text-align:center"><span style="font-size:14pt">Dave Lopez &#39\;73-Football</span></div>\n\n<div style="text-align:center"><span style="font-size:14pt">Willie Galbraith &#39\;96-Football</span></div>\n\n<div style="text-align:center">&nbsp\;</div>\n\n<div style="text-align:center"><span style="font-size:14pt">Special Recognition:</span></div>\n\n<div style="text-align:center"><span style="font-size:14pt">Dr. Richard Zak-Team Physician</span></div>\n\n<div style="text-align:center"><span style="font-size:14pt">Jim Santiago &#39\;74-Team(s) and Equipment Manager&nbsp\;</span></div>\n</div>\n\n<div style="text-align:center">&nbsp\;</div>\n
LOCATION:Cantwell Sacred Heart of Mary (CSHM) Cafeteria 329 N. Garfield Ave\, Montebello\, 90640
UID:e.1156.2630
SEQUENCE:3
DTSTAMP:20260419T215440Z
URL:https://www.montebellochamber.org/events/details/hall-of-fame-dinner-2630
END:VEVENT

END:VCALENDAR
