BEGIN:VCALENDAR
VERSION:2.0
PRODID:-//ChamberMaster//Event Calendar 2.0//EN
METHOD:PUBLISH
X-PUBLISHED-TTL:P3D
REFRESH-INTERVAL:P3D
CALSCALE:GREGORIAN
BEGIN:VEVENT
DTSTART:20171005T233000Z
DTEND:20171006T030000Z
X-MICROSOFT-CDO-ALLDAYEVENT:FALSE
SUMMARY:Hall of Fame Induction - Montebello High School Alumni
DESCRIPTION:Montebello High School's Alumni Association & Associated Student Body present\n\n2017 Alumni Hall of Fame Induction and Dinner\n\n\n\nEleanor Chow ('39)\n\nGarry Couso-Vasquez ('69)\n \n\nwill be honored at the 16th Annual MHS Alumni Association/ASB Dinner & Alumni Hall of Fame Induction\n\n \n\nDinner\n\nCasual Attire\n\nPerformances by:\n\n\n	Band\n	Choir\n	Cheer\n	Drill Team\n\n50/50 Raffle\n\nGiveaways\n You have been Helping Us\, Help Kids since 2004!\n\nIf you are unable to attend\, consider sending a donation
X-ALT-DESC;FMTTYPE=text/html:<div style="text-align: center\;">Montebello High School&#39\;s Alumni Association &amp\; Associated Student Body present<br />\n2017 Alumni Hall of Fame Induction and Dinner<br />\n<br />\n<strong>Eleanor Chow (&#39\;39)<br />\nGarry Couso-Vasquez (&#39\;69)</strong></div>\n&nbsp\;\n\n<p><span style="font-size:14px\;"><span style="font-size:12px\;"><span style="font-family: franklin gothic demi cond\,sans-serif\;">will be honored at the 16<sup>th</sup> Annual MHS Alumni Association/ASB Dinner &amp\; Alumni Hall of Fame Induction</span></span><br />\n&nbsp\;<br />\nDinner<br />\nCasual Attire<br />\nPerformances by:</span></p>\n\n<ul>\n	<li>Band</li>\n	<li>Choir</li>\n	<li>Cheer</li>\n	<li>Drill Team</li>\n</ul>\n50/50 Raffle<br />\nGiveaways\n<p><span style="font-size:14px\;">&nbsp\;<em><span style="font-family: arial\,sans-serif\;">You have been <strong>Helping Us\, Help Kids</strong> since 2004!</span></em><br />\n<em><u><span style="font-family: arial\,sans-serif\;">If you are unable to attend\, consider sending a donation</span></u></em></span></p>\n
LOCATION:Montebello High School Gymnasium 2100 W. Cleveland Ave. Montebello\, CA 90640 Street & Handicap Parking Available Behind the Pool
UID:e.1156.1905
SEQUENCE:3
DTSTAMP:20260419T114754Z
URL:https://www.montebellochamber.org/events/details/hall-of-fame-induction-montebello-high-school-alumni-1905
END:VEVENT

END:VCALENDAR
