BEGIN:VCALENDAR
VERSION:2.0
PRODID:-//ChamberMaster//Event Calendar 2.0//EN
METHOD:PUBLISH
X-PUBLISHED-TTL:P3D
REFRESH-INTERVAL:P3D
CALSCALE:GREGORIAN
BEGIN:VEVENT
DTSTART:20181028T020000Z
DTEND:20181028T065500Z
X-MICROSOFT-CDO-ALLDAYEVENT:FALSE
SUMMARY:Halloween Costume Party @ Angry Horse Brewing
DESCRIPTION:Angry Horse Brewing will host its annual Halloween Costume Party featuring costume contest\, live music by Rafa & Porque Si and tacos by Tacos La Bomba!  The categories for the costume contest are:  Best Costume\, Weirdest Costume\, Scariest Costume\, and Best Group Costume (2+ people).  The occasion will also mark the release of Angry Horse's new Black IPA!
X-ALT-DESC;FMTTYPE=text/html:Angry Horse Brewing will host its annual Halloween Costume Party featuring costume contest\, live music by Rafa &amp\; Porque Si and tacos by Tacos La Bomba!&nbsp\; The categories for the costume contest are:&nbsp\; Best Costume\, Weirdest Costume\, Scariest Costume\, and Best Group Costume (2+ people).&nbsp\; The occasion will also mark the release of Angry Horse&#39\;s new Black IPA!
LOCATION:Angry Horse Brewing 603 W. Whittier Blvd. Montebello\, CA 90640
UID:e.1156.3096
SEQUENCE:3
DTSTAMP:20260419T185703Z
URL:https://www.montebellochamber.org/events/details/halloween-costume-party-angry-horse-brewing-3096
END:VEVENT

END:VCALENDAR
