BEGIN:VCALENDAR
VERSION:2.0
PRODID:-//ChamberMaster//Event Calendar 2.0//EN
METHOD:PUBLISH
X-PUBLISHED-TTL:P3D
REFRESH-INTERVAL:P3D
CALSCALE:GREGORIAN
BEGIN:VEVENT
DTSTART:20191027T210000Z
DTEND:20191028T010000Z
X-MICROSOFT-CDO-ALLDAYEVENT:FALSE
SUMMARY:Halloween Fun presented by American Legion Post 272
DESCRIPTION:An afternoon of Halloween Fun! Music by "Sedillo".  It's going to be an afternoon of music\, dancing\, masquerading!
X-ALT-DESC;FMTTYPE=text/html:An afternoon of Halloween Fun! Music by &quot\;Sedillo&quot\;.&nbsp\; It&#39\;s going to be an afternoon of music\, dancing\, masquerading!&nbsp\;&nbsp\;
LOCATION:American Legion Post 272 616 Cleveland Ave Montebello\, CA 90640
UID:e.1156.3464
SEQUENCE:3
DTSTAMP:20260422T143201Z
URL:https://www.montebellochamber.org/events/details/halloween-fun-presented-by-american-legion-post-272-3464
END:VEVENT

END:VCALENDAR
