BEGIN:VCALENDAR
VERSION:2.0
PRODID:-//ChamberMaster//Event Calendar 2.0//EN
METHOD:PUBLISH
X-PUBLISHED-TTL:P3D
REFRESH-INTERVAL:P3D
CALSCALE:GREGORIAN
BEGIN:VEVENT
DTSTART:20201023T003000Z
DTEND:20201023T020000Z
X-MICROSOFT-CDO-ALLDAYEVENT:FALSE
SUMMARY:Halloween Multi-Chamber B.A.S.H.
DESCRIPTION:Halloween Multi-Chamber B.A.S.H. (Business Associate Social Hour) including Montebello\, Paramount\, Cerritos\, and Downey! \n\nDecorate your background in a spooky or fall theme!  Best background wins prize!
X-ALT-DESC;FMTTYPE=text/html:Halloween Multi-Chamber B.A.S.H. (Business Associate Social Hour) including Montebello\, Paramount\, Cerritos\, and Downey!&nbsp\;<br />\nDecorate your background in a spooky or fall theme!&nbsp\; Best background wins prize!
LOCATION:Virtual Zoom
UID:e.1156.3774
SEQUENCE:3
DTSTAMP:20260423T053001Z
URL:https://www.montebellochamber.org/events/details/halloween-multi-chamber-b-a-s-h-3774
END:VEVENT

END:VCALENDAR
