BEGIN:VCALENDAR
VERSION:2.0
PRODID:-//ChamberMaster//Event Calendar 2.0//EN
METHOD:PUBLISH
X-PUBLISHED-TTL:P3D
REFRESH-INTERVAL:P3D
CALSCALE:GREGORIAN
BEGIN:VEVENT
DTSTART:20181101T000000Z
DTEND:20181101T040000Z
X-MICROSOFT-CDO-ALLDAYEVENT:FALSE
SUMMARY:Halloween Night Festivities
DESCRIPTION:City of Montebello Recreation & Community Services presents\n\nHalloween Night Festivities\n\n\n\nCostume Contest for Kids Ages 14 & Under\n\nLive Music\n\nHaunted Maze & Jumpers\n\nGames & Raffles\n\nFood Vendors
X-ALT-DESC;FMTTYPE=text/html:City of Montebello Recreation &amp\; Community Services presents<br />\nHalloween Night Festivities<br />\n<br />\nCostume Contest for Kids Ages 14 &amp\; Under<br />\nLive Music<br />\nHaunted Maze &amp\; Jumpers<br />\nGames &amp\; Raffles<br />\nFood Vendors
LOCATION:236 George Hensel Drive Montebello\, CA 90640
UID:e.1156.2860
SEQUENCE:3
DTSTAMP:20260419T202129Z
URL:https://www.montebellochamber.org/events/details/halloween-night-festivities-2860
END:VEVENT

END:VCALENDAR
