BEGIN:VCALENDAR
VERSION:2.0
PRODID:-//ChamberMaster//Event Calendar 2.0//EN
METHOD:PUBLISH
X-PUBLISHED-TTL:P3D
REFRESH-INTERVAL:P3D
CALSCALE:GREGORIAN
BEGIN:VEVENT
DTSTART:20180515T020000Z
DTEND:20180515T033000Z
X-MICROSOFT-CDO-ALLDAYEVENT:FALSE
SUMMARY:Handgun Safety Class
DESCRIPTION:Women's Safety Class\;\n\nIntroduction to Handguns\n\n\n\nFREE\n\n\n	Introduction to handguns\n	Safety\n	Handgun manipulation\n\n\n\n\nCall ot reserve a seat. Space is limited.
X-ALT-DESC;FMTTYPE=text/html:<div style="text-align: center\;">Women's Safety Class\;<br>\nIntroduction to Handguns<br>\n<br>\nFREE</div>\n\n<ul>\n	<li style="text-align: center\;">Introduction to handguns</li>\n	<li style="text-align: center\;">Safety</li>\n	<li style="text-align: center\;">Handgun manipulation</li>\n</ul>\n\n<div style="text-align: center\;"><br>\nCall ot reserve a seat. Space is limited.</div>\n
LOCATION:FF Firearms 121 E. Whittier Blvd. Unit I Montebello\, CA 90640
UID:e.1156.2572
SEQUENCE:3
DTSTAMP:20260419T160032Z
URL:https://www.montebellochamber.org/events/details/handgun-safety-class-2572
END:VEVENT

END:VCALENDAR
