BEGIN:VCALENDAR
VERSION:2.0
PRODID:-//ChamberMaster//Event Calendar 2.0//EN
METHOD:PUBLISH
X-PUBLISHED-TTL:P3D
REFRESH-INTERVAL:P3D
CALSCALE:GREGORIAN
BEGIN:VEVENT
DTSTART:20141020T020000Z
DTEND:20141020T040000Z
X-MICROSOFT-CDO-ALLDAYEVENT:FALSE
SUMMARY:Hands On Make-Up Classes
DESCRIPTION:Hands on Make Up & Face Painting Class\n\nDia de Los Muertos or Day of the Dead\n\n Noon - 2:00. A Two hour indepth look at the traditions and history of this religeous holiday celebrated uniquely in different parts of Mexico with visits to the cemetary\, parades and family dinners honoring deceased family members. Special face painting style mixing ancient cultures visualizing the dead via skeletel facial features. While honoring the personality of the deceased through regional clothing\, hair styles and local flowers. Our unique make-up plus special technique allow for quick drying\, long lasting and the most comfortable for all day wear. Featuring Ben ye Cinema Secrets\, Mehron\, Paradise and Wolfe  Hypo Allergenic Make-Up which is proffesional quality\,  perfect for children and those with delicate skin. Please call for Material list.
X-ALT-DESC;FMTTYPE=text/html:<span style="font-size:18px\;"><span style="font-size:20px\;"><span style="font-family: arial\;">Hands on Make Up &amp\; Face Painting Class</span></span><br />\nDia de Los Muertos or Day of the Dead<br />\n&nbsp\;Noon - 2:00</span>. A Two hour indepth look at the traditions and history of this religeous holiday celebrated uniquely in different parts of Mexico with visits to the cemetary\, parades and family dinners honoring deceased family members. Special face painting style mixing ancient cultures visualizing the dead via skeletel facial features. While honoring the personality of the deceased through regional clothing\, hair styles and local flowers. Our unique make-up plus special technique allow for quick drying\, long lasting and the most comfortable for all day wear. Featuring Ben ye Cinema Secrets\, Mehron\, Paradise and Wolfe&nbsp\; Hypo Allergenic Make-Up which is proffesional quality\,&nbsp\; perfect for children and those with delicate skin. Please call for Material list.
LOCATION:Heavenly Choice 534 N. Montebello Blvd. Montebello\, CA 90640
UID:e.1156.1118
SEQUENCE:3
DTSTAMP:20260419T130159Z
URL:https://www.montebellochamber.org/events/details/hands-on-make-up-classes-10-19-2014-1118
END:VEVENT

END:VCALENDAR
