BEGIN:VCALENDAR
VERSION:2.0
PRODID:-//ChamberMaster//Event Calendar 2.0//EN
METHOD:PUBLISH
X-PUBLISHED-TTL:P3D
REFRESH-INTERVAL:P3D
CALSCALE:GREGORIAN
BEGIN:VEVENT
DTSTART:20181021T170000Z
DTEND:20181021T220000Z
X-MICROSOFT-CDO-ALLDAYEVENT:FALSE
SUMMARY:Harry's Sports Memorabilia & Barber Shop "FREE HAIRCUTS"
DESCRIPTION:Harry's Sports Memorabilia and Barber Shop\n\nFREE HAIRCUTS\n\nTips are very much appreciated.
X-ALT-DESC;FMTTYPE=text/html:Harry&#39\;s Sports Memorabilia and Barber Shop<br />\nFREE HAIRCUTS<br />\nTips are very much appreciated.&nbsp\;
LOCATION:1435 N. Montebello Blvd. Montebello\, CA 90640
UID:e.1156.3092
SEQUENCE:3
DTSTAMP:20260419T202910Z
URL:https://www.montebellochamber.org/events/details/harry-s-sports-memorabilia-barber-shop-free-haircuts-3092
END:VEVENT

END:VCALENDAR
