BEGIN:VCALENDAR
VERSION:2.0
PRODID:-//ChamberMaster//Event Calendar 2.0//EN
METHOD:PUBLISH
X-PUBLISHED-TTL:P3D
REFRESH-INTERVAL:P3D
CALSCALE:GREGORIAN
BEGIN:VEVENT
DTSTART:20130629T160000Z
DTEND:20130629T200000Z
X-MICROSOFT-CDO-ALLDAYEVENT:FALSE
SUMMARY:Health Care Reform & You
DESCRIPTION:A Community Series: Health Care Reform & You\n\n\n\nCome to this FREE community event\, to learn about:\n\n	\n		How the Affordable Care Act (ACA) affects you\n	\n		New health insurance options\n	\n		Financial help to buy health insurance\n	\n		how to enroll in health insurance\n	\n		Changes to Medicare & Medi-Cal\n	\n		And much more!\n\n\n	Rose Hills has assembled a formidable community collaborative\, that includes elected officials\, partners\, and sponsors: \n\n	 \n\n	\n		United States Congresswoman Grace Napolitano\n	\n		United States Congresswoman Lucille Roybal-Allard\n	\n		United States Congresswoman Linda T. S nchez\n	\n		California State Assemblyman Ian Calderon\n	\n		California State Assemblywoman Cristina Garcia\n	\n		California State Assemblyman Anthony Rendon\n	\n		AARP \n	\n		American Cancer Society\n	\n		Alzheimer's Association\n	\n		AppleCare Medical Group & AppleCare Insurance Services\n	\n		Bienvenidos\n	\n		City of Los Angeles Department on Aging\n	\n		City of Montebello\n	\n		County of Los Angeles Community and Senior Services\n	\n		Human Services Association\n	\n		Kaiser Permanente\n	\n		Mexican American Opportunity Foundation\n	\n		Montebello Chamber of Commerce\n	\n		Superior Grocers\n	\n		Univision\n	\n		YMCA\n	\n		The Whole Child\n	\n		And Others!
X-ALT-DESC;FMTTYPE=text/html:<span style="font-size: 14px\;"><span style="color: rgb(0\, 0\, 255)\;"><strong>A Community Series: Health Care Reform &amp\; You</strong></span></span><br />\n<br />\n<span style="font-size: 14px\;">Come to this <strong>FREE </strong>community event\, to learn about:</span>\n<ul>\n	<li>\n		<span style="font-size: 14px\;">How the Affordable Care Act (ACA) affects you</span></li>\n	<li>\n		<span style="font-size: 14px\;">New health insurance options</span></li>\n	<li>\n		<span style="font-size: 14px\;">Financial help to buy health insurance</span></li>\n	<li>\n		<span style="font-size: 14px\;">how to enroll in health insurance</span></li>\n	<li>\n		<span style="font-size: 14px\;">Changes to Medicare &amp\; Medi-Cal</span></li>\n	<li>\n		<span style="font-size: 14px\;">And much more!</span></li>\n</ul>\n<p>\n	<span style="font-size: 12px\;"><span style="font-family: tahoma\;"><strong>Rose Hills has assembled a formidable community collaborative\, that includes elected officials\, partners\, and sponsors: </strong></span></span><br />\n	&nbsp\;</p>\n<ul>\n	<li>\n		<span style="font-family: tahoma\;"><span style="font-size: 12px\;">United States Congresswoman Grace Napolitano</span></span></li>\n	<li>\n		<span style="font-family: tahoma\;"><span style="font-size: 12px\;">United States Congresswoman Lucille Roybal-Allard</span></span></li>\n	<li>\n		<span style="font-family: tahoma\;"><span style="font-size: 12px\;">United States Congresswoman Linda T. S&aacute\;nchez</span></span></li>\n	<li>\n		<span style="font-family: tahoma\;"><span style="font-size: 12px\;">California State Assemblyman Ian Calderon</span></span></li>\n	<li>\n		<span style="font-family: tahoma\;"><span style="font-size: 12px\;">California State Assemblywoman Cristina Garcia</span></span></li>\n	<li>\n		<span style="font-family: tahoma\;"><span style="font-size: 12px\;">California State Assemblyman Anthony Rendon</span></span></li>\n	<li>\n		<span style="font-family: tahoma\;"><span style="font-size: 12px\;">AARP </span></span></li>\n	<li>\n		<span style="font-family: tahoma\;"><span style="font-size: 12px\;">American Cancer Society</span></span></li>\n	<li>\n		<span style="font-family: tahoma\;"><span style="font-size: 12px\;">Alzheimer&rsquo\;s Association</span></span></li>\n	<li>\n		<span style="font-family: tahoma\;"><span style="font-size: 12px\;">AppleCare Medical Group &amp\; AppleCare Insurance Services</span></span></li>\n	<li>\n		<span style="font-family: tahoma\;"><span style="font-size: 12px\;">Bienvenidos</span></span></li>\n	<li>\n		<span style="font-family: tahoma\;"><span style="font-size: 12px\;">City of Los Angeles Department on Aging</span></span></li>\n	<li>\n		<span style="font-family: tahoma\;"><span style="font-size: 12px\;">City of Montebello</span></span></li>\n	<li>\n		<span style="font-family: tahoma\;"><span style="font-size: 12px\;">County of Los Angeles Community and Senior Services</span></span></li>\n	<li>\n		<span style="font-family: tahoma\;"><span style="font-size: 12px\;">Human Services Association</span></span></li>\n	<li>\n		<span style="font-family: tahoma\;"><span style="font-size: 12px\;">Kaiser Permanente</span></span></li>\n	<li>\n		<span style="font-family: tahoma\;"><span style="font-size: 12px\;">Mexican American Opportunity Foundation</span></span></li>\n	<li>\n		<span style="font-family: tahoma\;"><span style="font-size: 12px\;">Montebello Chamber of Commerce</span></span></li>\n	<li>\n		<span style="font-family: tahoma\;"><span style="font-size: 12px\;">Superior Grocers</span></span></li>\n	<li>\n		<span style="font-family: tahoma\;"><span style="font-size: 12px\;">Univision</span></span></li>\n	<li>\n		<span style="font-family: tahoma\;"><span style="font-size: 12px\;">YMCA</span></span></li>\n	<li>\n		<span style="font-family: tahoma\;"><span style="font-size: 12px\;">The Whole Child</span></span></li>\n	<li>\n		<span style="font-family: tahoma\;"><span style="font-size: 12px\;">And Others!</span></span></li>\n</ul>\n
LOCATION:Schurr High School 820 North Wilcox Avenue Montebello\, CA 9640 FREE Parking
UID:e.1156.925
SEQUENCE:3
DTSTAMP:20260419T130659Z
URL:https://www.montebellochamber.org/events/details/health-care-reform-you-06-29-2013-925
END:VEVENT

END:VCALENDAR
