BEGIN:VCALENDAR
VERSION:2.0
PRODID:-//ChamberMaster//Event Calendar 2.0//EN
METHOD:PUBLISH
X-PUBLISHED-TTL:P3D
REFRESH-INTERVAL:P3D
CALSCALE:GREGORIAN
BEGIN:VEVENT
DTSTART;VALUE=DATE:20180317
DTEND;VALUE=DATE:20180318
TRANSP:TRANSPARENT
X-MICROSOFT-CDO-ALLDAYEVENT:TRUE
SUMMARY:Health Lecture: Let's Get Food Educated!
DESCRIPTION:Have you ever wondered what is in your food? Join us as we discuss how using the nutrition facts label on our food products can help us eat healthier and become smarter shoppers. Free glucose screening after the lecture.
X-ALT-DESC;FMTTYPE=text/html:<span style="color: rgb(75\, 79\, 86)\; font-family: Helvetica\, Arial\, sans-serif\; font-size: 14px\;">Have you ever wondered what is in your food? Join us as we discuss how using the nutrition facts label on our food products can help us eat healthier and become smarter shoppers. Free glucose screening after the lecture.</span>
LOCATION:Tower Basement Rooms\, Beverly Hospital 309 W Beverly Blvd\, Montebello\, CA 90640\, USA
UID:e.1156.2506
SEQUENCE:3
DTSTAMP:20260419T130608Z
URL:https://www.montebellochamber.org/events/details/health-lecture-let-s-get-food-educated-2506
END:VEVENT

END:VCALENDAR
