BEGIN:VCALENDAR
VERSION:2.0
PRODID:-//ChamberMaster//Event Calendar 2.0//EN
METHOD:PUBLISH
X-PUBLISHED-TTL:P3D
REFRESH-INTERVAL:P3D
CALSCALE:GREGORIAN
BEGIN:VEVENT
DTSTART:20130427T170000Z
DTEND:20130427T200000Z
X-MICROSOFT-CDO-ALLDAYEVENT:FALSE
SUMMARY:Healthy Kids Day
DESCRIPTION:Healthy Kids Day is the day for kids to jump on a summer full of fun and activities-from sports to crafts to learning-that will keep them growing and achieving.  Join us and jumpstart a journey that lasts kids a day\, a summer and we hope their entire future.
X-ALT-DESC;FMTTYPE=text/html:Healthy Kids Day is the day for kids to jump on a summer full of fun and activities-from sports to crafts to learning-that will keep them growing and achieving.&nbsp\; Join us and jumpstart a journey that lasts kids a day\, a summer and we hope their entire future.
LOCATION:YMCA
UID:e.1156.697
SEQUENCE:3
DTSTAMP:20260419T143239Z
URL:https://www.montebellochamber.org/events/details/healthy-kids-day-04-27-2013-697
END:VEVENT

END:VCALENDAR
