BEGIN:VCALENDAR
VERSION:2.0
PRODID:-//ChamberMaster//Event Calendar 2.0//EN
METHOD:PUBLISH
X-PUBLISHED-TTL:P3D
REFRESH-INTERVAL:P3D
CALSCALE:GREGORIAN
BEGIN:VEVENT
DTSTART:20180421T160000Z
DTEND:20180421T200000Z
X-MICROSOFT-CDO-ALLDAYEVENT:FALSE
SUMMARY:Healthy Kids Day
DESCRIPTION:Healthy Kids Day\n\nResource fair for the community hosted by YMCA\n\n\n\nEvent Includes:\n\nInflatable Obstacle Course\n\nPrizes and Givaways\n\nFamily Latin Dance\n\nBallet Demo\n\n\n\nLions Eyemobile will provide FREE youth eye exams 10am-1pm
X-ALT-DESC;FMTTYPE=text/html:Healthy Kids Day<br />\nResource fair for the community hosted by YMCA<br />\n<br />\nEvent Includes:<br />\nInflatable Obstacle Course<br />\nPrizes and Givaways<br />\nFamily Latin Dance<br />\nBallet Demo<br />\n<br />\nLions Eyemobile will provide FREE youth eye exams 10am-1pm<br />\n&nbsp\;
LOCATION:Montebello-Commerce YMCA 2000 W. Beverly Blvd. Montebello\, CA 90640
UID:e.1156.2343
SEQUENCE:3
DTSTAMP:20260419T143159Z
URL:https://www.montebellochamber.org/events/details/healthy-kids-day-2343
END:VEVENT

END:VCALENDAR
