BEGIN:VCALENDAR
VERSION:2.0
PRODID:-//ChamberMaster//Event Calendar 2.0//EN
METHOD:PUBLISH
X-PUBLISHED-TTL:P3D
REFRESH-INTERVAL:P3D
CALSCALE:GREGORIAN
BEGIN:VEVENT
DTSTART:20191221T183000Z
DTEND:20191221T200000Z
X-MICROSOFT-CDO-ALLDAYEVENT:FALSE
SUMMARY:Heart of Compassion Christmas Event
DESCRIPTION:Heart of Compassion invites you to our Christmas Celebration of Free Food and Toy Distribution\, on Saturday December 21\, 2019. There will be lots of Miracles on Maple Street this year for you and your whole family. You will be blessed with: food\, clothing\, hygiene products\, manicures\, haircuts\, face painting\, toys for the kids\, music\, rock climbing\, plus more. It's also a time of giving and if you would like to help the Los Angeles Community this is a great opportunity! We need you to be the Hands and Feet of Compassion and if you would like to volunteer or donate new toys please let us know. Help us make miracles happen and put smiles on children's' faces this Christmas. For More Information Visit Our Website www.heartofcompassionca.org or Please Call (323) 727-7997
X-ALT-DESC;FMTTYPE=text/html:Heart of Compassion invites you to our Christmas Celebration of Free Food and Toy Distribution\, on Saturday December 21\, 2019. There will be lots of Miracles on Maple Street this year for you and your whole family. You will be blessed with: food\, clothing\, hygiene products\, manicures\, haircuts\, face painting\, toys for the kids\, music\, rock climbing\, plus more. It&rsquo\;s also a time of giving and if you would like to help the Los Angeles Community this is a great opportunity! We need you to be the Hands and Feet of Compassion and if you would like to volunteer or donate new toys please let us know. Help us make miracles happen and put smiles on children&rsquo\;s&#39\; faces this Christmas. For More Information Visit Our Website www.heartofcompassionca.org or Please Call (323) 727-7997
LOCATION:600 South Maple Ave. Montebello\, CA\, 90640
UID:e.1156.3529
SEQUENCE:3
DTSTAMP:20260419T143510Z
URL:https://www.montebellochamber.org/events/details/heart-of-compassion-christmas-event-3529
END:VEVENT

END:VCALENDAR
