BEGIN:VCALENDAR
VERSION:2.0
PRODID:-//ChamberMaster//Event Calendar 2.0//EN
METHOD:PUBLISH
X-PUBLISHED-TTL:P3D
REFRESH-INTERVAL:P3D
CALSCALE:GREGORIAN
BEGIN:VEVENT
DTSTART:20181117T193000Z
DTEND:20181117T223000Z
X-MICROSOFT-CDO-ALLDAYEVENT:FALSE
SUMMARY:Heart of Compassion Thanksgiving Event
DESCRIPTION:Heart of Compassion\n\nDistribution Food Bank\n\n Thanksgiving Community Event\n\nFree Thanksgiving Meal\n\nEveryone is welcome\n\nDon't Forget To Save the Date!!! \n\nGroceries - Clothing - Haircuts - Resource Booths - Face Painting - Music - Healthy Living - Dental Information - & Other Free Resources
X-ALT-DESC;FMTTYPE=text/html:<span style="color:#825421\;"><span style="font-family:arial\,sans-serif\;"><span style="font-size:18.0pt\;">Heart of Compassion<br />\nDistribution Food Bank</span></span></span><br />\n&#65279\;<span style="color:#825421\;"><span style="font-family:arial\,sans-serif\;"><span style="font-size:18.0pt\;">Thanksgiving Community Event<br />\nFree Thanksgiving Meal<br />\nEveryone is welcome</span></span></span><br />\n<span style="color:#825421\;"><span style="font-family:arial\,sans-serif\;"><span style="font-size:18.0pt\;">Don&#39\;t Forget To Save the Date!!!&nbsp\;<br />\nGroceries - Clothing - Haircuts - Resource Booths - Face Painting - Music - Healthy Living - Dental Information - &amp\; Other Free Resources</span></span></span>
LOCATION:Heart of Compassion 600 S. Maple Ave. Montebello CA 90640
UID:e.1156.3109
SEQUENCE:3
DTSTAMP:20260419T173514Z
URL:https://www.montebellochamber.org/events/details/heart-of-compassion-thanksgiving-event-3109
END:VEVENT

END:VCALENDAR
