BEGIN:VCALENDAR
VERSION:2.0
PRODID:-//ChamberMaster//Event Calendar 2.0//EN
METHOD:PUBLISH
X-PUBLISHED-TTL:P3D
REFRESH-INTERVAL:P3D
CALSCALE:GREGORIAN
BEGIN:VEVENT
DTSTART:20190208T010000Z
DTEND:20190208T030000Z
X-MICROSOFT-CDO-ALLDAYEVENT:FALSE
SUMMARY:Heart Walk - Go Red for Women
DESCRIPTION:Join Soroptimist International of Montebello and the American Heart Association in the "Go Red for Women" Movement!  Become part of the fight against heart disease\, the No. 1 killer of women in America by participating in a Heart Walk open to everyone.  Wear your Red!  Free refreshments will be provided.
X-ALT-DESC;FMTTYPE=text/html:Join Soroptimist International of Montebello and the American Heart Association in the &quot\;Go Red for Women&quot\; Movement!&nbsp\; Become part of the fight against heart disease\, the No. 1 killer of women in America by participating in a Heart Walk open to everyone.&nbsp\; Wear your Red!&nbsp\; Free refreshments will be provided.
LOCATION:Departure Location: Montebello City Hall 1600 W. Beverly Blvd. Montebello\, CA 90640 Arrival Location: Parks & Rec Building 1700 W. Victoria Ave. Montebello\, CA 90640
UID:e.1156.3187
SEQUENCE:3
DTSTAMP:20260419T130425Z
URL:https://www.montebellochamber.org/events/details/heart-walk-go-red-for-women-3187
END:VEVENT

END:VCALENDAR
