BEGIN:VCALENDAR
VERSION:2.0
PRODID:-//ChamberMaster//Event Calendar 2.0//EN
METHOD:PUBLISH
X-PUBLISHED-TTL:P3D
REFRESH-INTERVAL:P3D
CALSCALE:GREGORIAN
BEGIN:VEVENT
DTSTART:20131212T180000Z
DTEND:20131213T040000Z
X-MICROSOFT-CDO-ALLDAYEVENT:FALSE
SUMMARY:Heavenly Choice 30th Anniversary Holiday Open House
DESCRIPTION:A wonderful day filled with New Years Eve Make up demonstrations\, holiday bow making workshop\, balloon twisting & holiday face painting. Enjoy our all day buffet and holiday cheer. Hourly grab bag prizes and drawings of chance. Come help us celebrate 30 years of servicing our local community and building forever lasting friendships.
X-ALT-DESC;FMTTYPE=text/html:A wonderful day filled with New Years Eve Make up demonstrations\, holiday bow making workshop\, balloon twisting &amp\; holiday face painting. Enjoy our all day buffet and holiday cheer. Hourly grab bag prizes and drawings of chance. Come help us celebrate 30 years of servicing our local community and building forever lasting friendships.
LOCATION:534 N. Montebello Blvd. One block North of Beverly Blvd. Montebello\, CA 90640
UID:e.1156.966
SEQUENCE:3
DTSTAMP:20260419T231407Z
URL:https://www.montebellochamber.org/events/details/heavenly-choice-30th-anniversary-holiday-open-house-12-12-2013-966
END:VEVENT

END:VCALENDAR
