BEGIN:VCALENDAR
VERSION:2.0
PRODID:-//ChamberMaster//Event Calendar 2.0//EN
METHOD:PUBLISH
X-PUBLISHED-TTL:P3D
REFRESH-INTERVAL:P3D
CALSCALE:GREGORIAN
BEGIN:VEVENT
DTSTART:20130719T000000Z
DTEND:20130719T030000Z
X-MICROSOFT-CDO-ALLDAYEVENT:FALSE
SUMMARY:Heavenly Choice 30th Anniversary Mixer
DESCRIPTION:Heavenly Choice is celebrating our 30th Anniversary.  Thank you for supporting our businesswith your referrals\, as partners\, friends and great customers. Please join us for a wonderful evening of Great food\, drink\, music and more. Mark your calendar NOW ! ! !
X-ALT-DESC;FMTTYPE=text/html:Heavenly Choice is celebrating our 30th Anniversary.&nbsp\; Thank you for supporting our businesswith your referrals\, as partners\, friends and great customers. Please join us for a wonderful evening of Great food\, drink\, music and more. Mark your calendar NOW ! ! !
LOCATION:Heavenly Choice 534 N. Montebello Blvd. Montebello\, CA 90640
UID:e.1156.681
SEQUENCE:3
DTSTAMP:20260419T143416Z
URL:https://www.montebellochamber.org/events/details/heavenly-choice-30th-anniversary-mixer-07-18-2013-681
END:VEVENT

END:VCALENDAR
